BEGIN:VCALENDAR
VERSION:2.0
PRODID:-//TYPO3/NONSGML News system (news)//EN
BEGIN:VEVENT
UID:news-613@www.intosai.org
DTSTAMP:20201015T091813Z
DTSTART:20201020

SUMMARY:Webinar of SCEI COVID-19 Expert Group
DESCRIPTION:Organizer: SCEI Expert Group\n\nPlace: virtual meeting\n\n

The INTOSAI Chair, the Accounts Chamber of the Russian Federation is pleased&amp;nbsp;to invite you to participate in the final&amp;nbsp;webinar&amp;nbsp;of&amp;nbsp;SCEI&amp;nbsp;Expert Group&amp;nbsp;on the&amp;nbsp;Strategic role of&amp;nbsp;SAIs&amp;nbsp;in addressing the challenges posed by COVID-19 pandemic.
The discussion will focus on &quot;INTOSAI online transition: how can organizations adapt to the new normal of teleworking?&quot;.
The INTOSAI General Secretariat (SAI of Austria), as well as the Chairs of INTOSAI Goal Committees, such as PSC (SAI of Brazil), CBC (SAI of South Africa), KSC (SAI of India), PFAC (SAI of Saudi Arabia),&amp;nbsp;will share their stories on the process of transition of the work into online mode: what steps they had to take&amp;nbsp;to continue networking within INTOSAI under challenging condition, how events for INTOSAI were arranged, what tools and platforms were used, what instructions where followed, what are their main lessons learned and how do they see operation of INTOSAI in the future.
In addition, representatives from SAI of Italy will share their evaluation and point of view on communication with INTOSAI and its operation during the pandemic.
The&amp;nbsp;webinar&amp;nbsp;will be held on 20&amp;nbsp;October&amp;nbsp;2020, at 12:00&amp;nbsp;p.m. UTC&amp;nbsp;via the Blackboard Collaborate platform.\n &amp;nbsp;\n Please register via link http://scei.intosai.online/
Registration will be available until 19&amp;nbsp;October&amp;nbsp;2020. Registered participants will receive the agenda and the instructions for connection by the same date.
In order to avoid technical issues during the session, we kindly ask to register not more than 5 participants from each SAI.
Please do not hesitate to contact&amp;nbsp;SCEI&amp;nbsp;Secretariat in case of any questions&amp;nbsp;scei@ach.gov.ru.
LOCATION:virtual meeting

END:VEVENT
END:VCALENDAR
