BEGIN:VCALENDAR
VERSION:2.0
PRODID:-//TYPO3/NONSGML News system (news)//EN
BEGIN:VEVENT
UID:news-619@www.intosai.org
DTSTAMP:20201025T232654Z
DTSTART:20201028

SUMMARY:OLACEFS Extraordinary General Assembly
DESCRIPTION:Organizer: OLACEFS\n\nPlace: virtual meeting\n\n
LOCATION:virtual meeting

END:VEVENT
END:VCALENDAR
