BEGIN:VCALENDAR
VERSION:2.0
PRODID:-//TYPO3/NONSGML News system (news)//EN
BEGIN:VEVENT
UID:news-628@www.intosai.org
DTSTAMP:20201023T102714Z
DTSTART:20201030

SUMMARY:WGSDG KSDI – GIZ – AFROSAI-E webinar
DESCRIPTION:Organizer: WGSDG KSDI\n\nPlace: virtual meeting\n\n
The WG SDG KSDI Secretariat has received a communication from two WG observers – GIZ and AFROSAI-E – with an offer to organize a joint webinar on the&amp;nbsp;PFM Reporting Framework, a diagnostic assessment tool which allows SAIs to audit the entire PFM system and verify its readiness to enable the implementation of the SDGs. Up until now, the tool was piloted in 15 countries in Africa, Latin America and Europe. Several countries now plan their second rollout.
We believe that a discussion on the tool involving all WG members would add a significant value to the agenda of the WG as well as future rollouts by AFROSAI-E and GIZ.
In this light we are happy to invite all of you to join the&amp;nbsp;WGSDG KSDI – GIZ – AFROSAI-E&amp;nbsp;webinar&amp;nbsp;which will be taking place on
 	October 30&amp;nbsp;(15.30 – 17.00 Moscow time) via&amp;nbsp;Microsoft Teams App.&amp;nbsp; 
Agenda of the webinar and link for connection will be provided shortly.
The WG Secretariat would&amp;nbsp;also&amp;nbsp;like&amp;nbsp;to&amp;nbsp;use the forthcoming webinar as an opportunity to&amp;nbsp;briefly speak on the development&amp;nbsp;of the&amp;nbsp;Guidelines on audit of the reliability of macroeconomic forecasts, the project which is planned for implementation in 2021.
WGSDG KSDI Secretariat Team


LOCATION:virtual meeting

END:VEVENT
END:VCALENDAR
