BEGIN:VCALENDAR
VERSION:2.0
PRODID:-//TYPO3/NONSGML News system (news)//EN
BEGIN:VEVENT
UID:news-630@www.intosai.org
DTSTAMP:20201023T155230Z
DTSTART:20210119
DTEND:20210122
SUMMARY:20th Meeting of the INTOSAI Working Group on Environmental Auditing
DESCRIPTION:Organizer: WGEA\n\nPlace: virtual meeting\n\n
LOCATION:virtual meeting

END:VEVENT
END:VCALENDAR
