BEGIN:VCALENDAR
VERSION:2.0
PRODID:-//TYPO3/NONSGML News system (news)//EN
BEGIN:VEVENT
UID:news-683@www.intosai.org
DTSTAMP:20201222T083037Z
DTSTART:20210122

SUMMARY:Meeting of the Working Group on Financial Modernization and Regulatory
DESCRIPTION:Organizer: WGFMRR\n\nPlace: virtual meeting\n\n 	Draft Agenda 
LOCATION:virtual meeting

END:VEVENT
END:VCALENDAR
