BEGIN:VCALENDAR
VERSION:2.0
PRODID:-//TYPO3/NONSGML News system (news)//EN
BEGIN:VEVENT
UID:news-7@www.intosai.org
DTSTAMP:20190408T091758Z
DTSTART:20190509
DTEND:20190518
SUMMARY:12th Meeting of the Working Group on Value and Benefits of SAIs
DESCRIPTION:Organizer: WGVBS\n\nPlace: Vienna, Austria\n\n
LOCATION:Vienna, Austria

END:VEVENT
END:VCALENDAR
