BEGIN:VCALENDAR
VERSION:2.0
PRODID:-//TYPO3/NONSGML News system (news)//EN
BEGIN:VEVENT
UID:news-700@www.intosai.org
DTSTAMP:20210212T103545Z
DTSTART:20210202
DTEND:20210210
SUMMARY:FIPP web-meetings – 3 sessions February 2021
DESCRIPTION:Organizer: FIPP\n\nPlace: virtual meeting\n\nFIPP February-meetings:
 	2 February 2021 	4 February 2021 	9 February 2021 
LOCATION:virtual meeting

END:VEVENT
END:VCALENDAR
