BEGIN:VCALENDAR
VERSION:2.0
PRODID:-//TYPO3/NONSGML News system (news)//EN
BEGIN:VEVENT
UID:news-701@www.intosai.org
DTSTAMP:20210326T103059Z
DTSTART:20210408
DTEND:20210416
SUMMARY:FIPP web-meetings – 3 sessions April 2021
DESCRIPTION:Organizer: FIPP\n\nPlace: virtual meeting\n\nApril-meetings:
 	8 April 2021 	13 April 2021 	15 April 2021 
LOCATION:virtual meeting

END:VEVENT
END:VCALENDAR
