BEGIN:VCALENDAR
VERSION:2.0
PRODID:-//TYPO3/NONSGML News system (news)//EN
BEGIN:VEVENT
UID:news-702@www.intosai.org
DTSTAMP:20210326T103028Z
DTSTART:20210608
DTEND:20210616
SUMMARY:FIPP web-meetings – 3 sessions June 2021
DESCRIPTION:Organizer: FIPP\n\nPlace: virtual meeting\n\nJune-meetings:
 	8 June 2021 	10 June 2021 	15 June 2021 
LOCATION:virtual meeting

END:VEVENT
END:VCALENDAR
