BEGIN:VCALENDAR
VERSION:2.0
PRODID:-//TYPO3/NONSGML News system (news)//EN
BEGIN:VEVENT
UID:news-722@www.intosai.org
DTSTAMP:20210212T103520Z
DTSTART:20210330

SUMMARY:2nd Meeting of the Working Group on SDGs and Key Sustainable Development Indicators
DESCRIPTION:Organizer: WGSDG KSDI\n\nPlace: virtual meeting\n\n
LOCATION:virtual meeting

END:VEVENT
END:VCALENDAR
