BEGIN:VCALENDAR
VERSION:2.0
PRODID:-//TYPO3/NONSGML News system (news)//EN
BEGIN:VEVENT
UID:news-738@www.intosai.org
DTSTAMP:20210222T072325Z
DTSTART:20210310

SUMMARY:Meeting of the Task Force INTOSAI Auditor Professionalization
DESCRIPTION:Organizer: TFIAP\n\nPlace: virtual meeting\n\n
LOCATION:virtual meeting

END:VEVENT
END:VCALENDAR
