BEGIN:VCALENDAR
VERSION:2.0
PRODID:-//TYPO3/NONSGML News system (news)//EN
BEGIN:VEVENT
UID:news-745@www.intosai.org
DTSTAMP:20221007T081243Z
DTSTART:20211123

SUMMARY:75th Meeting of the Governing Board of INTOSAI
DESCRIPTION:Organizer: INTOSAI\n\nPlace: virtual meeting\n\n\n Agenda and Documents
(password protected — restricted to the members of the 75th Meeting of the Governing Board)\n &amp;nbsp;
LOCATION:virtual meeting

END:VEVENT
END:VCALENDAR
