BEGIN:VCALENDAR
VERSION:2.0
PRODID:-//TYPO3/NONSGML News system (news)//EN
BEGIN:VEVENT
UID:news-760@www.intosai.org
DTSTAMP:20210326T103535Z
DTSTART:20210907
DTEND:20210915
SUMMARY:FIPP web-meetings – 3 sessions September 2021
DESCRIPTION:Organizer: FIPP\n\nPlace: virtual meeting\n\nSeptember-meetings:
 	7 September 2021 	9 September 2021 	14 September 2021 


LOCATION:virtual meeting

END:VEVENT
END:VCALENDAR
