BEGIN:VCALENDAR
VERSION:2.0
PRODID:-//TYPO3/NONSGML News system (news)//EN
BEGIN:VEVENT
UID:news-761@www.intosai.org
DTSTAMP:20211016T151650Z
DTSTART:20211014
DTEND:20211027
SUMMARY:FIPP web-meetings – 3 sessions October 2021
DESCRIPTION:Organizer: FIPP\n\nPlace: virtual meeting\n\nOctober-meetings:
 	14 October 2021 	25 October 2021 	26 October 2021 


LOCATION:virtual meeting

END:VEVENT
END:VCALENDAR
