BEGIN:VCALENDAR
VERSION:2.0
PRODID:-//TYPO3/NONSGML News system (news)//EN
BEGIN:VEVENT
UID:news-762@www.intosai.org
DTSTAMP:20211016T150543Z
DTSTART:20211202
DTEND:20211210
SUMMARY:FIPP web-meetings – 3 sessions December 2021
DESCRIPTION:Organizer: FIPP\n\nPlace: virtual meeting\n\nDecember-meetings:
 	2 December 2021 	7 December 2021 	9 December 2021 


LOCATION:virtual meeting

END:VEVENT
END:VCALENDAR
