BEGIN:VCALENDAR
VERSION:2.0
PRODID:-//TYPO3/NONSGML News system (news)//EN
BEGIN:VEVENT
UID:news-763@www.intosai.org
DTSTAMP:20210326T113016Z
DTSTART:20210622
DTEND:20210625
SUMMARY:23rd PASAI Congress
DESCRIPTION:Organizer: PASAI – New Zealand\n\nPlace: virtual meeting\n\n
LOCATION:virtual meeting

END:VEVENT
END:VCALENDAR
