BEGIN:VCALENDAR
VERSION:2.0
PRODID:-//TYPO3/NONSGML News system (news)//EN
BEGIN:VEVENT
UID:news-769@www.intosai.org
DTSTAMP:20210625T101358Z
DTSTART:20210628
DTEND:20210701
SUMMARY:25th UN/INTOSAI Symposium
DESCRIPTION:Organizer: INTOSAI\n\nPlace: virtual meeting\n\nSymposium website — Programme, Presenters, Documents


LOCATION:virtual meeting

END:VEVENT
END:VCALENDAR
