BEGIN:VCALENDAR
VERSION:2.0
PRODID:-//TYPO3/NONSGML News system (news)//EN
BEGIN:VEVENT
UID:news-775@www.intosai.org
DTSTAMP:20210413T082221Z
DTSTART:20210519
DTEND:20210521
SUMMARY:Meeting of the Working Group on Public Debt
DESCRIPTION:Organizer: WGPD\n\nPlace: virtual meeting\n\n
LOCATION:virtual meeting

END:VEVENT
END:VCALENDAR
