BEGIN:VCALENDAR
VERSION:2.0
PRODID:-//TYPO3/NONSGML News system (news)//EN
BEGIN:VEVENT
UID:news-793@www.intosai.org
DTSTAMP:20210422T115155Z
DTSTART:20210525
DTEND:20210527
SUMMARY:Meeting of the Performance Audit Subcommittee
DESCRIPTION:Organizer: PAS\n\nPlace: virtual meeting\n\n
LOCATION:virtual meeting

END:VEVENT
END:VCALENDAR
