BEGIN:VCALENDAR
VERSION:2.0
PRODID:-//TYPO3/NONSGML News system (news)//EN
BEGIN:VEVENT
UID:news-8@www.intosai.org
DTSTAMP:20190408T091739Z
DTSTART:20190425
DTEND:20190428
SUMMARY:12th Meeting of the INTOSAI Working Group on Key National Indicators
DESCRIPTION:Organizer: KNI\n\nPlace: Bratislava, Slovak Republik\n\n
LOCATION:Bratislava, Slovak Republik

END:VEVENT
END:VCALENDAR
