BEGIN:VCALENDAR
VERSION:2.0
PRODID:-//TYPO3/NONSGML News system (news)//EN
BEGIN:VEVENT
UID:news-811@www.intosai.org
DTSTAMP:20210504T072304Z
DTSTART:20210617

SUMMARY:IDI Board Meeting
DESCRIPTION:Organizer: IDI\n\nPlace: virtual meeting\n\n
LOCATION:virtual meeting

END:VEVENT
END:VCALENDAR
