BEGIN:VCALENDAR
VERSION:2.0
PRODID:-//TYPO3/NONSGML News system (news)//EN
BEGIN:VEVENT
UID:news-823@www.intosai.org
DTSTAMP:20210504T074347Z
DTSTART:20210929

SUMMARY:CBC Steering Committee meeting
DESCRIPTION:Organizer: CBC\n\nPlace: virtual meeting\n\n
LOCATION:virtual meeting

END:VEVENT
END:VCALENDAR
