BEGIN:VCALENDAR
VERSION:2.0
PRODID:-//TYPO3/NONSGML News system (news)//EN
BEGIN:VEVENT
UID:news-836@www.intosai.org
DTSTAMP:20220421T101142Z
DTSTART:20210624

SUMMARY:PSC – Midterm online meeting of the Steering Committee
DESCRIPTION:Organizer: PSC SC\n\nPlace: virtual meeting\n\n
LOCATION:virtual meeting

END:VEVENT
END:VCALENDAR
