BEGIN:VCALENDAR
VERSION:2.0
PRODID:-//TYPO3/NONSGML News system (news)//EN
BEGIN:VEVENT
UID:news-844@www.intosai.org
DTSTAMP:20210507T080153Z
DTSTART:20210906
DTEND:20210909
SUMMARY:15th Assembly | 56th and 57th Governing Board Meeting
DESCRIPTION:Organizer: ASOSAI\n\nPlace: virtual meeting\n\nThe meetings consisted of
 	56th ASOSAI GB 	15th ASOSAI Assembly 	8th ASOSAI Symposium, and 	57th ASOSAI GB 
LOCATION:virtual meeting

END:VEVENT
END:VCALENDAR
