BEGIN:VCALENDAR
VERSION:2.0
PRODID:-//TYPO3/NONSGML News system (news)//EN
BEGIN:VEVENT
UID:news-861@www.intosai.org
DTSTAMP:20210526T090527Z
DTSTART:20210615

SUMMARY:Meeting of the Financial Audit and Accounting Subcommittee
DESCRIPTION:Organizer: FAAS\n\nPlace: virtual meeting\n\n 	4:00pm to 6:00pm Abu Dhabi time 
LOCATION:virtual meeting

END:VEVENT
END:VCALENDAR
