BEGIN:VCALENDAR
VERSION:2.0
PRODID:-//TYPO3/NONSGML News system (news)//EN
BEGIN:VEVENT
UID:news-887@www.intosai.org
DTSTAMP:20210719T093904Z
DTSTART:20210916

SUMMARY:13th Meeting of the KSC Steering Committee
DESCRIPTION:Organizer: KSC SC\n\nPlace: virtual meeting\n\n
LOCATION:virtual meeting

END:VEVENT
END:VCALENDAR
