BEGIN:VCALENDAR
VERSION:2.0
PRODID:-//TYPO3/NONSGML News system (news)//EN
BEGIN:VEVENT
UID:news-905@www.intosai.org
DTSTAMP:20211017T163931Z
DTSTART:20211026

SUMMARY:2nd Meeting of the Working Group on Impact of Science and Technology on Auditing
DESCRIPTION:Organizer: WGISTA\n\nPlace: virtual meeting\n\n
LOCATION:virtual meeting

END:VEVENT
END:VCALENDAR
