BEGIN:VCALENDAR
VERSION:2.0
PRODID:-//TYPO3/NONSGML News system (news)//EN
BEGIN:VEVENT
UID:news-911@www.intosai.org
DTSTAMP:20210901T090603Z
DTSTART:20211011
DTEND:20211013
SUMMARY:Meeting of the Subcommittee on Internal Control Standards
DESCRIPTION:Organizer: ICS\n\nPlace: virtual meeting\n\n
LOCATION:virtual meeting

END:VEVENT
END:VCALENDAR
