BEGIN:VCALENDAR
VERSION:2.0
PRODID:-//TYPO3/NONSGML News system (news)//EN
BEGIN:VEVENT
UID:news-917@www.intosai.org
DTSTAMP:20210902T143701Z
DTSTART:20210929

SUMMARY:5th Meeting of the INTOSAI Working Group on Big Data
DESCRIPTION:Organizer: WGBD\n\nPlace: virtual meeting\n\n12:00–15:00 UTC/GMT
LOCATION:virtual meeting

END:VEVENT
END:VCALENDAR
