BEGIN:VCALENDAR
VERSION:2.0
PRODID:-//TYPO3/NONSGML News system (news)//EN
BEGIN:VEVENT
UID:news-923@www.intosai.org
DTSTAMP:20211021T131132Z
DTSTART:20211125

SUMMARY:IDI Board Meeting
DESCRIPTION:Organizer: IDI\n\nPlace: virtual meeting\n\n
LOCATION:virtual meeting

END:VEVENT
END:VCALENDAR
