BEGIN:VCALENDAR
VERSION:2.0
PRODID:-//TYPO3/NONSGML News system (news)//EN
BEGIN:VEVENT
UID:news-929@www.intosai.org
DTSTAMP:20210908T093657Z
DTSTART:20210707
DTEND:20210710
SUMMARY:15th Assembly (Part 1) | 56th and 57th Governing Board Meeting
DESCRIPTION:Organizer: AFROSAI\n\nPlace: virtual meeting\n\n
LOCATION:virtual meeting

END:VEVENT
END:VCALENDAR
