BEGIN:VCALENDAR
VERSION:2.0
PRODID:-//TYPO3/NONSGML News system (news)//EN
BEGIN:VEVENT
UID:news-935@www.intosai.org
DTSTAMP:20220310T135314Z
DTSTART:20220317
DTEND:20220319
SUMMARY:15th General Assembly (Part 2)
DESCRIPTION:Organizer: AFROSAI\n\nPlace: Dakar, Senegal\n\n
LOCATION:Dakar, Senegal

END:VEVENT
END:VCALENDAR
