BEGIN:VCALENDAR
VERSION:2.0
PRODID:-//TYPO3/NONSGML News system (news)//EN
BEGIN:VEVENT
UID:news-941@www.intosai.org
DTSTAMP:20220421T100648Z
DTSTART:20211019

SUMMARY:PSC – 18th meeting of the Steering Committee
DESCRIPTION:Organizer: PSC SC\n\nPlace: virtual meeting\n\n
LOCATION:virtual meeting

END:VEVENT
END:VCALENDAR
