BEGIN:VCALENDAR
VERSION:2.0
PRODID:-//TYPO3/NONSGML News system (news)//EN
BEGIN:VEVENT
UID:news-947@www.intosai.org
DTSTAMP:20210914T112243Z
DTSTART:20210920
DTEND:20211007
SUMMARY:14th INTOSAI–Donor Cooperation Steering Committee
DESCRIPTION:Organizer: IDSC\n\nPlace: virtual meeting\n\nThis year, the meeting will consist of a series of virtual sessions, ending in an official decision-making online event for SC members only. Relevant topics such as GCP T2, Leaving No SAIs behind, Global SAI Stocktaking Report 2020 will be discussed.
 	20 September at 13:00-14.30&amp;nbsp;Oslo time (CEST) - Session 1 –&amp;nbsp;GCP T2: Recipe for Success – Cultivating an environment for SAI capacity development in Fragile States 	21 September at 13:00-14:30 Oslo time (CEST) -&amp;nbsp;Session&amp;nbsp;2&amp;nbsp;–&amp;nbsp;Leaving No SAIs behind 	22 September at 13:00-14:30 Oslo time (CEST)&amp;nbsp;- Session 3 –&amp;nbsp;How can we improve support to SAIs based on findings from the Global SAI Stocktaking Report 2020? 	24 September at 13:00-14:30 Oslo time (CEST) -&amp;nbsp;Session 4 – Coordination - a key pillar in building resilient SAIs 	27 September at 13:00-14:30 Oslo time (CEST) -&amp;nbsp;Session 5 - Responsive SAIs – How can SAIs be responsive to Emerging Trends 

 	05 October at 14:00-16:00&amp;nbsp;Oslo time (CEST) - SC members only 	06 October at 08:00-10:00&amp;nbsp;Oslo time (CEST) - SC members only 
For updates and the latest programme developments, we recommend you visit&amp;nbsp;www.idsc2021.org&amp;nbsp;for regular updates.
LOCATION:virtual meeting

END:VEVENT
END:VCALENDAR
