BEGIN:VCALENDAR
VERSION:2.0
PRODID:-//TYPO3/NONSGML News system (news)//EN
BEGIN:VEVENT
UID:news-953@www.intosai.org
DTSTAMP:20210923T113740Z
DTSTART:20211118

SUMMARY:Meeting of the Working Group on Financial Modernization and Regulatory
DESCRIPTION:Organizer: WGFMRR\n\nPlace: virtual meeting\n\n2021 Q4 Virtual Quarterly Meeting
LOCATION:virtual meeting

END:VEVENT
END:VCALENDAR
