BEGIN:VCALENDAR
VERSION:2.0
PRODID:-//TYPO3/NONSGML News system (news)//EN
BEGIN:VEVENT
UID:news-970@www.intosai.org
DTSTAMP:20211017T164602Z
DTSTART:20211103

SUMMARY:Meeting of the Financial Audit and Accounting Subcommittee
DESCRIPTION:Organizer: FAAS\n\nPlace: virtual meeting\n\n 	5:00pm to 7:00pm Abu Dhabi time 
LOCATION:virtual meeting

END:VEVENT
END:VCALENDAR
