BEGIN:VCALENDAR
VERSION:2.0
PRODID:-//TYPO3/NONSGML News system (news)//EN
BEGIN:VEVENT
UID:news-980@www.intosai.org
DTSTAMP:20211025T085118Z
DTSTART:20211116

SUMMARY:55th EUROSAI Governing Board meeting
DESCRIPTION:Organizer: EUROSAI\n\nPlace: London, United Kingdom\n\n
LOCATION:London, United Kingdom

END:VEVENT
END:VCALENDAR
