BEGIN:VCALENDAR
VERSION:2.0
PRODID:-//TYPO3/NONSGML News system (news)//EN
BEGIN:VEVENT
UID:news-1041@www.intosai.org
DTSTAMP:20220913T124128Z
DTSTART:20221014

SUMMARY:3-е Заседание Рабочая группа по ЦУР и ключевым показателям устойчивого развития
DESCRIPTION:организатор: WGSDG KSDI\n\nместо: виртуальная встреча\n\nVC duration – 12.00 – 14.00 UTC
LOCATION:виртуальная встреча

END:VEVENT
END:VCALENDAR
