BEGIN:VCALENDAR
VERSION:2.0
PRODID:-//TYPO3/NONSGML News system (news)//EN
BEGIN:VEVENT
UID:news-1156@www.intosai.org
DTSTAMP:20221017T083343Z
DTSTART:20221107
DTEND:20221112
SUMMARY:XXIV-ый Конгресс ИНТОСАИ — 76-ое заседание Управляющего Совета
DESCRIPTION:организатор: INTOSAI\n\nместо: Рио-де-Жанейро, Бразилия\n\n\n Повестка дня и документы 76-го&amp;nbsp;заседания Управляющего совета
(защищено паролем — доступ только для членов 76-го&amp;nbsp;заседания Управляющего совета)\n &amp;nbsp;


LOCATION:Рио-де-Жанейро, Бразилия

END:VEVENT
END:VCALENDAR
