BEGIN:VCALENDAR
VERSION:2.0
PRODID:-//TYPO3/NONSGML News system (news)//EN
BEGIN:VEVENT
UID:news-1199@www.intosai.org
DTSTAMP:20220622T082554Z
DTSTART:20221025
DTEND:20221028
SUMMARY:14-я Генеральная Ассамблея АРАБОСАИ
DESCRIPTION:организатор: АРАБОСАИ\n\nместо: Джидда, Саудовская Аравия\n\n
LOCATION:Джидда, Саудовская Аравия

END:VEVENT
END:VCALENDAR
