BEGIN:VCALENDAR
VERSION:2.0
PRODID:-//TYPO3/NONSGML News system (news)//EN
BEGIN:VEVENT
UID:news-1200@www.intosai.org
DTSTAMP:20220704T105848Z
DTSTART:20221012
DTEND:20221014
SUMMARY:Ежегодное совещание FAAS
DESCRIPTION:организатор: FAAS\n\nместо: Дубай, Объединенные Арабские Эмираты\n\nЕжегодное собрание акционеров подкомитет по финансовому аудиту и отчетности
LOCATION:Дубай, Объединенные Арабские Эмираты

END:VEVENT
END:VCALENDAR
