BEGIN:VCALENDAR
VERSION:2.0
PRODID:-//TYPO3/NONSGML News system (news)//EN
BEGIN:VEVENT
UID:news-1280@www.intosai.org
DTSTAMP:20220927T152501Z
DTSTART:20221207
DTEND:20221209
SUMMARY:-я ежегодная встреча Рабочая группа по воздействию науки и технологий на ауди и 1-й ежегодный семинар
DESCRIPTION:организатор: WGISTA\n\nместо: Абу-Даби, ОАЭ\n\nBoth the events will be in-person and held at Abu Dhabi, UAE.
LOCATION:Абу-Даби, ОАЭ

END:VEVENT
END:VCALENDAR
